BEGIN:VCALENDAR
VERSION:2.0
PRODID:-//Ron Franscell - ECPv6.15.17.1//NONSGML v1.0//EN
CALSCALE:GREGORIAN
METHOD:PUBLISH
X-ORIGINAL-URL:https://ronfranscell.com
X-WR-CALDESC:Events for Ron Franscell
REFRESH-INTERVAL;VALUE=DURATION:PT1H
X-Robots-Tag:noindex
X-PUBLISHED-TTL:PT1H
BEGIN:VTIMEZONE
TZID:America/Denver
BEGIN:DAYLIGHT
TZOFFSETFROM:-0700
TZOFFSETTO:-0600
TZNAME:MDT
DTSTART:20230312T090000
END:DAYLIGHT
BEGIN:STANDARD
TZOFFSETFROM:-0600
TZOFFSETTO:-0700
TZNAME:MST
DTSTART:20231105T080000
END:STANDARD
BEGIN:DAYLIGHT
TZOFFSETFROM:-0700
TZOFFSETTO:-0600
TZNAME:MDT
DTSTART:20240310T090000
END:DAYLIGHT
BEGIN:STANDARD
TZOFFSETFROM:-0600
TZOFFSETTO:-0700
TZNAME:MST
DTSTART:20241103T080000
END:STANDARD
BEGIN:DAYLIGHT
TZOFFSETFROM:-0700
TZOFFSETTO:-0600
TZNAME:MDT
DTSTART:20250309T090000
END:DAYLIGHT
BEGIN:STANDARD
TZOFFSETFROM:-0600
TZOFFSETTO:-0700
TZNAME:MST
DTSTART:20251102T080000
END:STANDARD
END:VTIMEZONE
BEGIN:VEVENT
DTSTART;TZID=America/Denver:20240623T140000
DTEND;TZID=America/Denver:20240623T160000
DTSTAMP:20260420T140113
CREATED:20240321T180409Z
LAST-MODIFIED:20240321T180611Z
UID:4631-1719151200-1719158400@ronfranscell.com
SUMMARY:Conversation with Anne Hillerman
DESCRIPTION:On June 23\, Ron will moderate a fireside chat with his friend and bestselling author Anne Hillerman about “Lost Birds\,” her new installment in the Leaphorn/Chee/Manuelito mysteries. It will happen at the Placitas (NM) Community Library. Time TBA. After the presentation\, Anne will sign books\, which will be available that day. \n 
URL:https://ronfranscell.com/calendar/conversation-with-anne-hillerman/
LOCATION:Placitas Community Library\, 453 NM-165\, Placitas\, NM\, 87043\, United States
END:VEVENT
END:VCALENDAR